BEGIN:VCALENDAR
VERSION:2.0
PRODID:spatie/icalendar-generator
DESCRIPTION:Événements de Voyages Nomades
X-WR-CALDESC:Événements de Voyages Nomades
REFRESH-INTERVAL;VALUE=DURATION:PT1440M
X-PUBLISHED-TTL:PT1440M
BEGIN:VTIMEZONE
TZID:America/Toronto
BEGIN:DAYLIGHT
DTSTART:20250309T020000Z
TZOFFSETFROM:-0500
TZOFFSETTO:-0400
END:DAYLIGHT
BEGIN:STANDARD
DTSTART:20251102T020000Z
TZOFFSETFROM:-0400
TZOFFSETTO:-0500
END:STANDARD
BEGIN:DAYLIGHT
DTSTART:20260308T020000Z
TZOFFSETFROM:-0500
TZOFFSETTO:-0400
END:DAYLIGHT
END:VTIMEZONE
BEGIN:VTIMEZONE
TZID:UTC
BEGIN:STANDARD
DTSTART:20250727T085330Z
TZOFFSETFROM:+0000
TZOFFSETTO:+0000
END:STANDARD
END:VTIMEZONE
BEGIN:VEVENT
UID:85-80
DTSTAMP:20260423T085330Z
SUMMARY:Safari Kenya : La magie de l'inconnue
LOCATION:
ORGANIZER;CN=exom:MAILTO:info@exom.ca
DTSTART;TZID=America/Toronto;VALUE=DATE:20251110
DTEND;TZID=America/Toronto;VALUE=DATE:20251111
X-ALT-DESC;FMTTYPE=TEXT/HTML:Plongez dans une aventure sauvage inégalée l
 ors d’un safari au Kenya. Des étendues infinies de la savane masaï aux
  silhouettes majestueuses des Big Five\, chaque instant est une rencontre 
 avec la nature à l’état brut. Les levers de soleil embrasent le ciel t
 andis que les murmures de la brousse réveillent vos sens. Entre les pas&amp;h
 ellip\;
CATEGORIES:Terrestre
URL;VALUE=URI:https://nomades-voyages.com/mc-events/safari-kenya-la-magie-d
 e-linconnue-11/
METHOD:PUBLISH
END:VEVENT
END:VCALENDAR